Package: ChAMP Version: 2.39.1 Command: /home/biocbuild/bbs-3.22-bioc/R/bin/R CMD INSTALL ChAMP StartedAt: 2025-10-03 16:04:55 -0400 (Fri, 03 Oct 2025) EndedAt: 2025-10-03 16:05:58 -0400 (Fri, 03 Oct 2025) EllapsedTime: 63.9 seconds RetCode: 0 Status: OK