Package: ChAMP Version: 2.39.1 Command: /home/biocbuild/bbs-3.22-bioc/R/bin/R CMD build --keep-empty-dirs --no-resave-data --md5 ChAMP StartedAt: 2025-10-03 16:43:19 -0400 (Fri, 03 Oct 2025) EndedAt: 2025-10-03 16:45:18 -0400 (Fri, 03 Oct 2025) EllapsedTime: 119.2 seconds RetCode: 0 Status: OK PackageFile: ChAMP_2.39.1.tar.gz PackageFileSize: 7.95 MiB