Package: ChAMP Version: 2.37.0 Command: /home/biocbuild/bbs-3.21-bioc/R/bin/R CMD build --keep-empty-dirs --no-resave-data ChAMP StartedAt: 2025-02-16 16:36:24 -0500 (Sun, 16 Feb 2025) EndedAt: 2025-02-16 16:38:20 -0500 (Sun, 16 Feb 2025) EllapsedTime: 116.2 seconds RetCode: 0 Status: OK PackageFile: ChAMP_2.37.0.tar.gz PackageFileSize: 7.951 MiB