Package: CexoR Version: 1.47.1 Command: chmod a+r CexoR -R && F:\biocbuild\bbs-3.22-bioc\R\bin\R.exe CMD build --keep-empty-dirs --no-resave-data CexoR StartedAt: 2025-08-14 19:02:48 -0400 (Thu, 14 Aug 2025) EndedAt: 2025-08-14 19:04:07 -0400 (Thu, 14 Aug 2025) EllapsedTime: 79.7 seconds RetCode: 0 Status: OK PackageFile: CexoR_1.47.1.tar.gz PackageFileSize: 1.661 MiB