Package: CexoR Version: 1.47.1 Command: rm -rf CexoR.buildbin-libdir && mkdir CexoR.buildbin-libdir && F:\biocbuild\bbs-3.22-bioc\R\bin\R.exe CMD INSTALL --build --library=CexoR.buildbin-libdir CexoR_1.47.1.tar.gz StartedAt: 2025-08-15 09:55:58 -0400 (Fri, 15 Aug 2025) EndedAt: 2025-08-15 09:56:40 -0400 (Fri, 15 Aug 2025) EllapsedTime: 42.5 seconds RetCode: 0 Status: OK PackageFile: CexoR_1.47.1.zip PackageFileSize: 1.699 MiB