Package: CexoR Version: 1.47.0 Command: /Library/Frameworks/R.framework/Resources/bin/R CMD build --keep-empty-dirs --no-resave-data CexoR StartedAt: 2025-05-02 16:14:24 -0400 (Fri, 02 May 2025) EndedAt: 2025-05-02 16:15:29 -0400 (Fri, 02 May 2025) EllapsedTime: 65.2 seconds RetCode: 0 Status: OK PackageFile: CexoR_1.47.0.tar.gz PackageFileSize: 1.66 MiB