Package: CexoR Version: 1.47.0 Command: rm -rf CexoR.buildbin-libdir && mkdir CexoR.buildbin-libdir && /Users/biocbuild/BBS/utils/build-universal.sh CexoR_1.47.0.tar.gz /Library/Frameworks/R.framework/Resources/bin/R CexoR.buildbin-libdir StartedAt: 2025-05-03 00:35:13 -0400 (Sat, 03 May 2025) EndedAt: 2025-05-03 00:36:07 -0400 (Sat, 03 May 2025) EllapsedTime: 53.9 seconds RetCode: 0 Status: OK PackageFile: CexoR_1.47.0.tgz PackageFileSize: 1.694 MiB