Package: Cepo Version: 1.15.0 Command: chmod a+r Cepo -R && F:\biocbuild\bbs-3.22-bioc\R\bin\R.exe CMD build --keep-empty-dirs --no-resave-data Cepo StartedAt: 2025-08-14 19:02:01 -0400 (Thu, 14 Aug 2025) EndedAt: 2025-08-14 19:04:29 -0400 (Thu, 14 Aug 2025) EllapsedTime: 147.6 seconds RetCode: 0 Status: OK PackageFile: Cepo_1.15.0.tar.gz PackageFileSize: 2.489 MiB