Package: Cepo Version: 1.13.0 Command: /home/biocbuild/R/R/bin/R CMD build --keep-empty-dirs --no-resave-data Cepo StartedAt: 2025-01-28 21:42:43 -0000 (Tue, 28 Jan 2025) EndedAt: 2025-01-28 21:44:39 -0000 (Tue, 28 Jan 2025) EllapsedTime: 116.0 seconds RetCode: 1 Status: ERROR PackageFile: None PackageFileSize: NA