Package: Cepo Version: 1.13.0 Command: rm -rf Cepo.buildbin-libdir && mkdir Cepo.buildbin-libdir && /Users/biocbuild/BBS/utils/build-universal.sh Cepo_1.13.0.tar.gz /Library/Frameworks/R.framework/Resources/bin/R Cepo.buildbin-libdir StartedAt: 2025-02-03 22:44:38 -0500 (Mon, 03 Feb 2025) EndedAt: 2025-02-03 22:44:53 -0500 (Mon, 03 Feb 2025) EllapsedTime: 15.3 seconds RetCode: 0 Status: OK PackageFile: Cepo_1.13.0.tgz PackageFileSize: 3.954 MiB