Package: CelliD Version: 1.17.0 Command: chmod a+r CelliD -R && F:\biocbuild\bbs-3.22-bioc\R\bin\R.exe CMD build --keep-empty-dirs --no-resave-data CelliD StartedAt: 2025-08-14 18:58:59 -0400 (Thu, 14 Aug 2025) EndedAt: 2025-08-14 19:11:04 -0400 (Thu, 14 Aug 2025) EllapsedTime: 724.9 seconds RetCode: 0 Status: OK PackageFile: CelliD_1.17.0.tar.gz PackageFileSize: 912.7 KiB