Package: CelliD Version: 1.17.0 Maintainer: Akira Cortal MaintainerEmail: akira.cortal at institutimagine.org git_url: https://git.bioconductor.org/packages/CelliD git_branch: devel git_last_commit: b801e21 git_last_commit_date: 2025-04-15 12:23:04 -0400 (Tue, 15 Apr 2025)