Package: CellTrails Version: 1.25.0 Command: chmod a+r CellTrails -R && E:\biocbuild\bbs-3.21-bioc\R\bin\R.exe CMD build --keep-empty-dirs --no-resave-data CellTrails StartedAt: 2025-02-03 17:57:29 -0500 (Mon, 03 Feb 2025) EndedAt: 2025-02-03 17:58:49 -0500 (Mon, 03 Feb 2025) EllapsedTime: 80.1 seconds RetCode: 0 Status: OK PackageFile: CellTrails_1.25.0.tar.gz PackageFileSize: 2.629 MiB