Package: CellTrails Version: 1.25.0 Command: /home/biocbuild/bbs-3.21-bioc/R/bin/R CMD check --install=check:CellTrails.install-out.txt --library=/home/biocbuild/bbs-3.21-bioc/R/site-library --timings CellTrails_1.25.0.tar.gz StartedAt: 2025-02-05 20:47:35 -0500 (Wed, 05 Feb 2025) EndedAt: 2025-02-05 20:51:49 -0500 (Wed, 05 Feb 2025) EllapsedTime: 254.3 seconds RetCode: 0 Status: OK CheckDir: CellTrails.Rcheck Warnings: 0