Package: CellTrails Version: 1.25.0 Command: /home/biocbuild/bbs-3.21-bioc/R/bin/R CMD build --keep-empty-dirs --no-resave-data CellTrails StartedAt: 2025-02-03 16:43:04 -0500 (Mon, 03 Feb 2025) EndedAt: 2025-02-03 16:43:45 -0500 (Mon, 03 Feb 2025) EllapsedTime: 41.0 seconds RetCode: 0 Status: OK PackageFile: CellTrails_1.25.0.tar.gz PackageFileSize: 2.628 MiB