Package: CellTrails Version: 1.25.0 Command: /Library/Frameworks/R.framework/Resources/bin/R CMD build --keep-empty-dirs --no-resave-data CellTrails StartedAt: 2025-02-03 16:15:15 -0500 (Mon, 03 Feb 2025) EndedAt: 2025-02-03 16:15:55 -0500 (Mon, 03 Feb 2025) EllapsedTime: 40.0 seconds RetCode: 0 Status: OK PackageFile: CellTrails_1.25.0.tar.gz PackageFileSize: 2.628 MiB