Package: CellTrails Version: 1.25.0 Command: /home/biocbuild/R/R/bin/R CMD build --keep-empty-dirs --no-resave-data CellTrails StartedAt: 2025-01-28 21:40:45 -0000 (Tue, 28 Jan 2025) EndedAt: 2025-01-28 21:41:39 -0000 (Tue, 28 Jan 2025) EllapsedTime: 54.0 seconds RetCode: 0 Status: OK PackageFile: CellTrails_1.25.0.tar.gz PackageFileSize: 2.625 MiB