Package: CellScore Version: 1.29.1 Command: /home/biocbuild/R/R/bin/R CMD INSTALL CellScore StartedAt: 2025-10-13 20:53:42 -0000 (Mon, 13 Oct 2025) EndedAt: 2025-10-13 20:54:08 -0000 (Mon, 13 Oct 2025) EllapsedTime: 26.5 seconds RetCode: 0 Status: OK