Package: CellScore Version: 1.29.1 Command: /home/biocbuild/R/R/bin/R CMD build --keep-empty-dirs --no-resave-data CellScore StartedAt: 2025-10-13 22:59:52 -0000 (Mon, 13 Oct 2025) EndedAt: 2025-10-13 23:03:35 -0000 (Mon, 13 Oct 2025) EllapsedTime: 223.1 seconds RetCode: 1 Status: ERROR PackageFile: None PackageFileSize: NA