Package: CellScore Version: 1.27.0 Command: rm -rf CellScore.buildbin-libdir && mkdir CellScore.buildbin-libdir && /Users/biocbuild/BBS/utils/build-universal.sh CellScore_1.27.0.tar.gz /Library/Frameworks/R.framework/Resources/bin/R CellScore.buildbin-libdir StartedAt: 2025-02-03 00:15:51 -0500 (Mon, 03 Feb 2025) EndedAt: 2025-02-03 00:16:21 -0500 (Mon, 03 Feb 2025) EllapsedTime: 30.0 seconds RetCode: 0 Status: OK PackageFile: CellScore_1.27.0.tgz PackageFileSize: 4.268 MiB