Package: CellScore Version: 1.27.0 Command: /home/biocbuild/R/R/bin/R CMD build --keep-empty-dirs --no-resave-data CellScore StartedAt: 2025-01-28 21:40:40 -0000 (Tue, 28 Jan 2025) EndedAt: 2025-01-28 21:44:59 -0000 (Tue, 28 Jan 2025) EllapsedTime: 259.1 seconds RetCode: 0 Status: OK PackageFile: CellScore_1.27.0.tar.gz PackageFileSize: 4.32 MiB