Package: CellMapper Version: 1.33.0 Command: /home/biocbuild/bbs-3.21-bioc/R/bin/R CMD INSTALL CellMapper StartedAt: 2025-02-05 15:11:56 -0500 (Wed, 05 Feb 2025) EndedAt: 2025-02-05 15:12:00 -0500 (Wed, 05 Feb 2025) EllapsedTime: 4.5 seconds RetCode: 0 Status: OK