Package: CellMapper Version: 1.33.0 Command: /Library/Frameworks/R.framework/Resources/bin/R CMD INSTALL CellMapper StartedAt: 2025-02-05 15:05:29 -0500 (Wed, 05 Feb 2025) EndedAt: 2025-02-05 15:05:52 -0500 (Wed, 05 Feb 2025) EllapsedTime: 23.0 seconds RetCode: 0 Status: OK