Package: CellMapper Version: 1.35.0 Command: /Library/Frameworks/R.framework/Resources/bin/R CMD INSTALL CellMapper StartedAt: 2025-04-29 15:06:31 -0400 (Tue, 29 Apr 2025) EndedAt: 2025-04-29 15:06:33 -0400 (Tue, 29 Apr 2025) EllapsedTime: 2.5 seconds RetCode: 0 Status: OK