Package: CellMapper Version: 1.35.0 Command: /Library/Frameworks/R.framework/Resources/bin/R CMD build --keep-empty-dirs --no-resave-data CellMapper StartedAt: 2025-04-30 15:50:41 -0400 (Wed, 30 Apr 2025) EndedAt: 2025-04-30 15:51:36 -0400 (Wed, 30 Apr 2025) EllapsedTime: 54.6 seconds RetCode: 0 Status: OK PackageFile: CellMapper_1.35.0.tar.gz PackageFileSize: 205.3 KiB