Package: CellBarcode Version: 1.15.0 Command: rm -rf CellBarcode.buildbin-libdir && mkdir CellBarcode.buildbin-libdir && F:\biocbuild\bbs-3.22-bioc\R\bin\R.exe CMD INSTALL --build --library=CellBarcode.buildbin-libdir CellBarcode_1.15.0.tar.gz StartedAt: 2025-08-15 09:55:11 -0400 (Fri, 15 Aug 2025) EndedAt: 2025-08-15 09:57:31 -0400 (Fri, 15 Aug 2025) EllapsedTime: 140.5 seconds RetCode: 0 Status: OK PackageFile: CellBarcode_1.15.0.zip PackageFileSize: 3.318 MiB