Package: CeTF Version: 1.21.0 Command: rm -rf CeTF.buildbin-libdir && mkdir CeTF.buildbin-libdir && /Users/biocbuild/BBS/utils/build-universal.sh CeTF_1.21.0.tar.gz /Library/Frameworks/R.framework/Resources/bin/R CeTF.buildbin-libdir StartedAt: 2025-10-01 01:34:12 -0400 (Wed, 01 Oct 2025) EndedAt: 2025-10-01 01:35:35 -0400 (Wed, 01 Oct 2025) EllapsedTime: 83.9 seconds RetCode: 0 Status: OK PackageFile: CeTF_1.21.0.tgz PackageFileSize: 4.251 MiB