Package: CausalR Version: 1.41.0 Command: rm -rf CausalR.buildbin-libdir && mkdir CausalR.buildbin-libdir && F:\biocbuild\bbs-3.22-bioc\R\bin\R.exe CMD INSTALL --build --library=CausalR.buildbin-libdir CausalR_1.41.0.tar.gz StartedAt: 2025-08-15 09:54:16 -0400 (Fri, 15 Aug 2025) EndedAt: 2025-08-15 09:55:00 -0400 (Fri, 15 Aug 2025) EllapsedTime: 44.5 seconds RetCode: 0 Status: OK PackageFile: CausalR_1.41.0.zip PackageFileSize: 654.8 KiB