Package: CatsCradle Version: 1.3.0 Command: /home/biocbuild/bbs-3.22-bioc/R/bin/R CMD INSTALL CatsCradle StartedAt: 2025-10-09 15:22:03 -0400 (Thu, 09 Oct 2025) EndedAt: 2025-10-09 15:22:42 -0400 (Thu, 09 Oct 2025) EllapsedTime: 39.2 seconds RetCode: 0 Status: OK