Package: CatsCradle Version: 1.3.0 Command: /home/biocbuild/bbs-3.22-bioc/R/bin/R CMD build --keep-empty-dirs --no-resave-data --md5 CatsCradle StartedAt: 2025-10-09 16:42:33 -0400 (Thu, 09 Oct 2025) EndedAt: 2025-10-09 16:49:26 -0400 (Thu, 09 Oct 2025) EllapsedTime: 412.3 seconds RetCode: 1 Status: ERROR PackageFile: None PackageFileSize: NA