Package: CatsCradle Version: 1.1.0 Command: /home/biocbuild/bbs-3.21-bioc/R/bin/R CMD INSTALL CatsCradle StartedAt: 2025-02-03 15:28:23 -0500 (Mon, 03 Feb 2025) EndedAt: 2025-02-03 15:29:01 -0500 (Mon, 03 Feb 2025) EllapsedTime: 38.3 seconds RetCode: 0 Status: OK