Package: CatsCradle Version: 1.1.0 Command: /Library/Frameworks/R.framework/Resources/bin/R CMD INSTALL CatsCradle StartedAt: 2025-02-03 15:55:50 -0500 (Mon, 03 Feb 2025) EndedAt: 2025-02-03 15:56:05 -0500 (Mon, 03 Feb 2025) EllapsedTime: 15.1 seconds RetCode: 0 Status: OK