Package: CatsCradle Version: 1.1.0 Command: /Library/Frameworks/R.framework/Resources/bin/R CMD build --keep-empty-dirs --no-resave-data CatsCradle StartedAt: 2025-02-03 16:22:29 -0500 (Mon, 03 Feb 2025) EndedAt: 2025-02-03 16:25:09 -0500 (Mon, 03 Feb 2025) EllapsedTime: 159.6 seconds RetCode: 0 Status: OK PackageFile: CatsCradle_1.1.0.tar.gz PackageFileSize: 8.395 MiB