Package: Category Version: 2.73.0 Command: rm -rf Category.buildbin-libdir && mkdir Category.buildbin-libdir && E:\biocbuild\bbs-3.21-bioc\R\bin\R.exe CMD INSTALL --build --library=Category.buildbin-libdir Category_2.73.0.tar.gz StartedAt: 2025-02-21 07:43:27 -0500 (Fri, 21 Feb 2025) EndedAt: 2025-02-21 07:45:01 -0500 (Fri, 21 Feb 2025) EllapsedTime: 94.6 seconds RetCode: 0 Status: OK PackageFile: Category_2.73.0.zip PackageFileSize: 1.408 MiB