Package: Category Version: 2.73.0 Command: /Library/Frameworks/R.framework/Resources/bin/R CMD INSTALL Category StartedAt: 2025-02-03 15:36:50 -0500 (Mon, 03 Feb 2025) EndedAt: 2025-02-03 15:37:21 -0500 (Mon, 03 Feb 2025) EllapsedTime: 31.1 seconds RetCode: 0 Status: OK