Package: Category Version: 2.73.0 Command: /Library/Frameworks/R.framework/Resources/bin/R CMD build --keep-empty-dirs --no-resave-data Category StartedAt: 2025-02-03 16:13:06 -0500 (Mon, 03 Feb 2025) EndedAt: 2025-02-03 16:14:29 -0500 (Mon, 03 Feb 2025) EllapsedTime: 83.4 seconds RetCode: 0 Status: OK PackageFile: Category_2.73.0.tar.gz PackageFileSize: 875.1 KiB