Package: Category Version: 2.75.0 Command: rm -rf Category.buildbin-libdir && mkdir Category.buildbin-libdir && /Users/biocbuild/BBS/utils/build-universal.sh Category_2.75.0.tar.gz /Library/Frameworks/R.framework/Resources/bin/R Category.buildbin-libdir StartedAt: 2025-10-03 22:33:02 -0400 (Fri, 03 Oct 2025) EndedAt: 2025-10-03 22:33:12 -0400 (Fri, 03 Oct 2025) EllapsedTime: 10.2 seconds RetCode: 0 Status: OK PackageFile: Category_2.75.0.tgz PackageFileSize: 1.425 MiB