Package: CardinalIO Version: 1.7.0 Command: /home/biocbuild/R/R/bin/R CMD INSTALL CardinalIO StartedAt: 2025-10-20 20:24:45 -0000 (Mon, 20 Oct 2025) EndedAt: 2025-10-20 20:25:08 -0000 (Mon, 20 Oct 2025) EllapsedTime: 23.2 seconds RetCode: 0 Status: OK