Package: CardinalIO Version: 1.7.0 Command: /home/biocbuild/R/R/bin/R CMD build --keep-empty-dirs --no-resave-data CardinalIO StartedAt: 2025-10-20 22:29:17 -0000 (Mon, 20 Oct 2025) EndedAt: 2025-10-20 22:29:53 -0000 (Mon, 20 Oct 2025) EllapsedTime: 36.0 seconds RetCode: 0 Status: OK PackageFile: CardinalIO_1.7.0.tar.gz PackageFileSize: 1007 KiB