Package: CalibraCurve Version: 0.99.2 Command: /home/biocbuild/bbs-3.22-bioc/R/bin/R CMD INSTALL CalibraCurve StartedAt: 2025-10-17 15:36:54 -0400 (Fri, 17 Oct 2025) EndedAt: 2025-10-17 15:37:17 -0400 (Fri, 17 Oct 2025) EllapsedTime: 23.8 seconds RetCode: 0 Status: OK