Package: CalibraCurve Version: 0.99.2 Command: /home/biocbuild/bbs-3.22-bioc/R/bin/R CMD build --keep-empty-dirs --no-resave-data --md5 CalibraCurve StartedAt: 2025-10-17 16:35:18 -0400 (Fri, 17 Oct 2025) EndedAt: 2025-10-17 16:36:26 -0400 (Fri, 17 Oct 2025) EllapsedTime: 68.0 seconds RetCode: 0 Status: OK PackageFile: CalibraCurve_0.99.2.tar.gz PackageFileSize: 1.907 MiB