Package: CalibraCurve Version: 1.1.1 Command: /home/biocbuild/bbs-3.23-bioc/R/bin/R CMD INSTALL CalibraCurve StartedAt: 2025-11-26 15:38:10 -0500 (Wed, 26 Nov 2025) EndedAt: 2025-11-26 15:38:33 -0500 (Wed, 26 Nov 2025) EllapsedTime: 23.7 seconds RetCode: 0 Status: OK