Package: CalibraCurve Version: 1.1.1 Command: /home/biocbuild/bbs-3.23-bioc/R/bin/R CMD build --keep-empty-dirs --no-resave-data CalibraCurve StartedAt: 2025-11-26 16:36:09 -0500 (Wed, 26 Nov 2025) EndedAt: 2025-11-26 16:37:15 -0500 (Wed, 26 Nov 2025) EllapsedTime: 66.1 seconds RetCode: 0 Status: OK PackageFile: CalibraCurve_1.1.1.tar.gz PackageFileSize: 1.974 MiB