Package: CaMutQC Version: 1.3.0 Command: /Library/Frameworks/R.framework/Resources/bin/R CMD build --keep-empty-dirs --no-resave-data CaMutQC StartedAt: 2025-02-03 16:12:01 -0500 (Mon, 03 Feb 2025) EndedAt: 2025-02-03 16:13:06 -0500 (Mon, 03 Feb 2025) EllapsedTime: 65.2 seconds RetCode: 0 Status: OK PackageFile: CaMutQC_1.3.0.tar.gz PackageFileSize: 4.843 MiB