Package: CaMutQC Version: 1.5.0 Command: /Library/Frameworks/R.framework/Resources/bin/R CMD build --keep-empty-dirs --no-resave-data CaMutQC StartedAt: 2025-05-08 15:50:11 -0400 (Thu, 08 May 2025) EndedAt: 2025-05-08 15:50:41 -0400 (Thu, 08 May 2025) EllapsedTime: 29.3 seconds RetCode: 0 Status: OK PackageFile: CaMutQC_1.5.0.tar.gz PackageFileSize: 4.842 MiB