Package: CaMutQC Version: 1.5.0 Command: rm -rf CaMutQC.buildbin-libdir && mkdir CaMutQC.buildbin-libdir && /Users/biocbuild/BBS/utils/build-universal.sh CaMutQC_1.5.0.tar.gz /Library/Frameworks/R.framework/Resources/bin/R CaMutQC.buildbin-libdir StartedAt: 2025-05-08 23:06:46 -0400 (Thu, 08 May 2025) EndedAt: 2025-05-08 23:07:00 -0400 (Thu, 08 May 2025) EllapsedTime: 14.3 seconds RetCode: 0 Status: OK PackageFile: CaMutQC_1.5.0.tgz PackageFileSize: 4.118 MiB