Package: CaDrA Version: 1.7.0 Command: /home/biocbuild/bbs-3.22-bioc/R/bin/R CMD INSTALL CaDrA StartedAt: 2025-10-08 15:28:54 -0400 (Wed, 08 Oct 2025) EndedAt: 2025-10-08 15:29:20 -0400 (Wed, 08 Oct 2025) EllapsedTime: 26.1 seconds RetCode: 0 Status: OK