Package: CaDrA Version: 1.7.0 Command: /home/biocbuild/bbs-3.22-bioc/R/bin/R CMD build --keep-empty-dirs --no-resave-data --md5 CaDrA StartedAt: 2025-10-08 16:57:06 -0400 (Wed, 08 Oct 2025) EndedAt: 2025-10-08 16:59:23 -0400 (Wed, 08 Oct 2025) EllapsedTime: 136.1 seconds RetCode: 0 Status: OK PackageFile: CaDrA_1.7.0.tar.gz PackageFileSize: 2.38 MiB