Package: CaDrA Version: 1.5.0 Command: /home/biocbuild/R/R/bin/R CMD check --install=check:CaDrA.install-out.txt --library=/home/biocbuild/R/R/site-library --no-vignettes --timings CaDrA_1.5.0.tar.gz StartedAt: 2025-01-28 08:51:19 -0000 (Tue, 28 Jan 2025) EndedAt: 2025-01-28 09:00:32 -0000 (Tue, 28 Jan 2025) EllapsedTime: 552.4 seconds RetCode: 0 Status: OK CheckDir: CaDrA.Rcheck Warnings: 0