Package: CaDrA Version: 1.5.0 Command: /home/biocbuild/R/R/bin/R CMD build --keep-empty-dirs --no-resave-data CaDrA StartedAt: 2025-01-28 21:30:43 -0000 (Tue, 28 Jan 2025) EndedAt: 2025-01-28 21:34:03 -0000 (Tue, 28 Jan 2025) EllapsedTime: 200.1 seconds RetCode: 0 Status: OK PackageFile: CaDrA_1.5.0.tar.gz PackageFileSize: 1.746 MiB